BEGIN:VCALENDAR
VERSION:2.0
PRODID:-//Capital Region Chapter - ECPv6.15.18//NONSGML v1.0//EN
CALSCALE:GREGORIAN
METHOD:PUBLISH
X-ORIGINAL-URL:https://aeecapitalregion.com
X-WR-CALDESC:Events for Capital Region Chapter
REFRESH-INTERVAL;VALUE=DURATION:PT1H
X-Robots-Tag:noindex
X-PUBLISHED-TTL:PT1H
BEGIN:VTIMEZONE
TZID:America/New_York
BEGIN:DAYLIGHT
TZOFFSETFROM:-0500
TZOFFSETTO:-0400
TZNAME:EDT
DTSTART:20220313T070000
END:DAYLIGHT
BEGIN:STANDARD
TZOFFSETFROM:-0400
TZOFFSETTO:-0500
TZNAME:EST
DTSTART:20221106T060000
END:STANDARD
BEGIN:DAYLIGHT
TZOFFSETFROM:-0500
TZOFFSETTO:-0400
TZNAME:EDT
DTSTART:20230312T070000
END:DAYLIGHT
BEGIN:STANDARD
TZOFFSETFROM:-0400
TZOFFSETTO:-0500
TZNAME:EST
DTSTART:20231105T060000
END:STANDARD
BEGIN:DAYLIGHT
TZOFFSETFROM:-0500
TZOFFSETTO:-0400
TZNAME:EDT
DTSTART:20240310T070000
END:DAYLIGHT
BEGIN:STANDARD
TZOFFSETFROM:-0400
TZOFFSETTO:-0500
TZNAME:EST
DTSTART:20241103T060000
END:STANDARD
END:VTIMEZONE
BEGIN:VEVENT
DTSTART;TZID=America/New_York:20230803T120000
DTEND;TZID=America/New_York:20230803T170000
DTSTAMP:20260424T203230
CREATED:20230705T141541Z
LAST-MODIFIED:20230727T174119Z
UID:1257-1691064000-1691082000@aeecapitalregion.com
SUMMARY:AEE Track Day!
DESCRIPTION:Please join us for a day at the races. This is our annual fun event to kick off our Fall season. Ticket holders receive admission\, lunch (sandwiches and snacks)\, and refreshments. Feel free to bring your own cooler to share adult beverages. \n\n\n\nTickets will be held at will call. If purchasing multiple General Admission tickets\, please add each individual name to the ticket order. \n\n\n\nThis year we are requesting sponsors\, who’s funding will help us provide reduced costs on future events and free PDH credits.
URL:https://aeecapitalregion.com/event/aee-track-day-2/
LOCATION:Saratoga Race Track\, https://www.nyra.com/saratoga/\, New York\, United States
END:VEVENT
END:VCALENDAR