BEGIN:VCALENDAR
VERSION:2.0
PRODID:-//Capital Region Chapter - ECPv6.15.18//NONSGML v1.0//EN
CALSCALE:GREGORIAN
METHOD:PUBLISH
X-WR-CALNAME:Capital Region Chapter
X-ORIGINAL-URL:https://aeecapitalregion.com
X-WR-CALDESC:Events for Capital Region Chapter
REFRESH-INTERVAL;VALUE=DURATION:PT1H
X-Robots-Tag:noindex
X-PUBLISHED-TTL:PT1H
BEGIN:VTIMEZONE
TZID:America/New_York
BEGIN:DAYLIGHT
TZOFFSETFROM:-0500
TZOFFSETTO:-0400
TZNAME:EDT
DTSTART:20240310T070000
END:DAYLIGHT
BEGIN:STANDARD
TZOFFSETFROM:-0400
TZOFFSETTO:-0500
TZNAME:EST
DTSTART:20241103T060000
END:STANDARD
BEGIN:DAYLIGHT
TZOFFSETFROM:-0500
TZOFFSETTO:-0400
TZNAME:EDT
DTSTART:20250309T070000
END:DAYLIGHT
BEGIN:STANDARD
TZOFFSETFROM:-0400
TZOFFSETTO:-0500
TZNAME:EST
DTSTART:20251102T060000
END:STANDARD
BEGIN:DAYLIGHT
TZOFFSETFROM:-0500
TZOFFSETTO:-0400
TZNAME:EDT
DTSTART:20260308T070000
END:DAYLIGHT
BEGIN:STANDARD
TZOFFSETFROM:-0400
TZOFFSETTO:-0500
TZNAME:EST
DTSTART:20261101T060000
END:STANDARD
END:VTIMEZONE
BEGIN:VEVENT
DTSTART;TZID=America/New_York:20250207T150000
DTEND;TZID=America/New_York:20250207T180000
DTSTAMP:20260423T163108
CREATED:20250110T142132Z
LAST-MODIFIED:20250130T132920Z
UID:1902-1738940400-1738951200@aeecapitalregion.com
SUMMARY:Tour of Energy Catalyst's Troy Factory
DESCRIPTION:We are excited to invite you to a comprehensive tour of the Energy Catalyst’s Troy Factory. Our visit will begin with a 30-minute presentation on the innovative Heat Pump product by The Energy Catalyst\, highlighting their unique position in the industry. This will be followed by a brief Q&A session with Matt Desmarais\, the Founder of Energy Catalyst. \n\n\n\nPresentation Learning Objectives: \n\n\n\n\nUnderstanding multi-condenser refrigeration technology and the refrigeration cycle.\n\n\n\nBest practices for retrofitting existing buildings with water source heat pumps and geothermal designs.\n\n\n\nInsights into the heat pump manufacturing processes.\n\n\n\n\n \n\n\n\nFollowing the presentation\, we will tour the factory floor\, where you will witness a live demonstration of a heat pump in action. Attendees will have the opportunity to observe the manufacturing line\, including the process of making a twister. The tour will also feature a look at the grouting equipment used in the geothermal industry. \n\n\n\nApproved for 1.5 PDH. \n\n\n\n4:30 to 6pm Happy hour location TBD. \n\n\n\nTour sponsored by NYSPE Capital District\, and PDH sponsored by CHA. \n\n\n\n\n\n\n\n\n\nMatthew is a 2013 graduate of Clarkson University\, with degree in Mechanical Engineering. After working in the HVAC industry in NY for 4 years\, he worked internationally for EcoGreen Energy in France\, Spain and Belgium as an industrial energy recovery engineer and project developer. Notable projects include Stella Artois Brewery\, Coca Cola and Valeo. Matt started Energy Catalyst in 2019 and has presented at NY GEO\, Association of Energy Engineers and The American Society of Heating\, Refrigerating and Air-Conditioning Engineers (ASHRAE) on the topics of geothermal and high efficiency technologies. Energy Catalyst is a proud member of IGSHPA and is a NYSERDA Certified Approved Geothermal Contractor. Energy Catalyst was a NYGEO Top Job Finalist in 2022 and contest judge in 2023 and 2024.Matthew is a Certified Energy Manager (CEM)\, Certified Energy Auditor (CEA)\, Certified Measurement and Verification Professional (CMVP)\, and has a EIT with intention to take the Professional Engineering exam in the next 6 months. Matt has filed 2 utility patents in geothermal and heat pump technology.
URL:https://aeecapitalregion.com/event/tour-of-energy-catalysts-troy-factory/
LOCATION:Energy Catalyst Technologies\, 60 113th Street\, Troy\, New York\, 12182\, United States
ORGANIZER;CN="Energy Catalyst Technologies":MAILTO:mattd@energycatalysttech.com
END:VEVENT
END:VCALENDAR