BEGIN:VCALENDAR
VERSION:2.0
PRODID:-//Capital Region Chapter - ECPv6.15.18//NONSGML v1.0//EN
CALSCALE:GREGORIAN
METHOD:PUBLISH
X-ORIGINAL-URL:https://aeecapitalregion.com
X-WR-CALDESC:Events for Capital Region Chapter
REFRESH-INTERVAL;VALUE=DURATION:PT1H
X-Robots-Tag:noindex
X-PUBLISHED-TTL:PT1H
BEGIN:VTIMEZONE
TZID:America/New_York
BEGIN:DAYLIGHT
TZOFFSETFROM:-0500
TZOFFSETTO:-0400
TZNAME:EDT
DTSTART:20240310T070000
END:DAYLIGHT
BEGIN:STANDARD
TZOFFSETFROM:-0400
TZOFFSETTO:-0500
TZNAME:EST
DTSTART:20241103T060000
END:STANDARD
BEGIN:DAYLIGHT
TZOFFSETFROM:-0500
TZOFFSETTO:-0400
TZNAME:EDT
DTSTART:20250309T070000
END:DAYLIGHT
BEGIN:STANDARD
TZOFFSETFROM:-0400
TZOFFSETTO:-0500
TZNAME:EST
DTSTART:20251102T060000
END:STANDARD
BEGIN:DAYLIGHT
TZOFFSETFROM:-0500
TZOFFSETTO:-0400
TZNAME:EDT
DTSTART:20260308T070000
END:DAYLIGHT
BEGIN:STANDARD
TZOFFSETFROM:-0400
TZOFFSETTO:-0500
TZNAME:EST
DTSTART:20261101T060000
END:STANDARD
END:VTIMEZONE
BEGIN:VEVENT
DTSTART;TZID=America/New_York:20250828T123000
DTEND;TZID=America/New_York:20250828T170000
DTSTAMP:20260423T075240
CREATED:20250723T200341Z
LAST-MODIFIED:20250825T210837Z
UID:2163-1756384200-1756400400@aeecapitalregion.com
SUMMARY:6th Annual AEE Track Day
DESCRIPTION:Come Join us for a networking day at the Saratoga Race Track for AEE Capital Region’s 6th Annual Track Day! A special Thank You to our sponsors: F.W. Webb\, J.W. Danforth Company\, and Tech Valley Engineering pllc. \n\n\n\n\n\n\n\n\n\n \n\n\n\nWe’ve stepped it up this time and gotten the Big Red Spring Tent for this event! Please see the link below for the exact location of the tent. \n\n\n\n\n\n\n\n\n\n\n\n\n\n\n\n\n\n\n\n\n\n\n\nFor more information about parking and the facility: https://www.nyra.com/saratoga/visit/grounds-map/ \n\n\n\nSchedule \n\n\n\n\n12:30 PM AEE Track Day Event Kick-off and Lunch\n\n\n\n1:10PM Post time of Race 1 \n\n\n\n\n\n\n\n\n\n\nEvent is Sold Out! Thank you to everyone who signed up\, we look forward to seeing you Thursday! \n\n\n\nNote: Ticket pick-up instructions will be e-mailed to attendees before the event
URL:https://aeecapitalregion.com/event/aee-6th-annual-track-day/
LOCATION:Saratoga Race Track\, 267 Union Avenue\, Saratoga Springs\, New York\, 12866
END:VEVENT
END:VCALENDAR