BEGIN:VCALENDAR
VERSION:2.0
PRODID:-//Capital Region Chapter - ECPv6.15.18//NONSGML v1.0//EN
CALSCALE:GREGORIAN
METHOD:PUBLISH
X-ORIGINAL-URL:https://aeecapitalregion.com
X-WR-CALDESC:Events for Capital Region Chapter
REFRESH-INTERVAL;VALUE=DURATION:PT1H
X-Robots-Tag:noindex
X-PUBLISHED-TTL:PT1H
BEGIN:VTIMEZONE
TZID:America/New_York
BEGIN:DAYLIGHT
TZOFFSETFROM:-0500
TZOFFSETTO:-0400
TZNAME:EDT
DTSTART:20240310T070000
END:DAYLIGHT
BEGIN:STANDARD
TZOFFSETFROM:-0400
TZOFFSETTO:-0500
TZNAME:EST
DTSTART:20241103T060000
END:STANDARD
BEGIN:DAYLIGHT
TZOFFSETFROM:-0500
TZOFFSETTO:-0400
TZNAME:EDT
DTSTART:20250309T070000
END:DAYLIGHT
BEGIN:STANDARD
TZOFFSETFROM:-0400
TZOFFSETTO:-0500
TZNAME:EST
DTSTART:20251102T060000
END:STANDARD
BEGIN:DAYLIGHT
TZOFFSETFROM:-0500
TZOFFSETTO:-0400
TZNAME:EDT
DTSTART:20260308T070000
END:DAYLIGHT
BEGIN:STANDARD
TZOFFSETFROM:-0400
TZOFFSETTO:-0500
TZNAME:EST
DTSTART:20261101T060000
END:STANDARD
END:VTIMEZONE
BEGIN:VEVENT
DTSTART;TZID=America/New_York:20251114T113000
DTEND;TZID=America/New_York:20251114T130000
DTSTAMP:20260421T070529
CREATED:20251104T141821Z
LAST-MODIFIED:20251104T141821Z
UID:2290-1763119800-1763125200@aeecapitalregion.com
SUMMARY:Wastewater Energy Transfer - SHARC
DESCRIPTION:Aaron Miller from SHARC  will present on Wastewater Energy Transfer systems. Wastewater represents one of the most underutilized renewable thermal resources within our communities and facilities. This session introduces SHARC Energy’s Wastewater Energy Transfer (WET) systems—engineered to harvest and reuse the inherent thermal value of municipal\, commercial\, and onsite wastewater as both a heat source and heat sink for space conditioning and domestic hot water. Through detailed case studies\, including district energy networks\, affordable housing retrofits\, and institutional facilities\, attendees will explore system architectures and integration with geothermal\, heat pumps\, and other hydronic systems driving measurable carbon and cost reductions across the built environment. \n\n\n\n\n\nAaron Miller is a seasoned professional with extensive experience working on both sides of the energy meter. He has spent the last decade focused primarily on deploying deep energy efficiency retrofits in multi-family residential\, commercial\, and industrial buildings across the United States and Canada. \n\n\n\n\n \n\n\n\n\n\n\n\n\n\n\nThis Lunch & Learn style event will be hosted by our partners CHA Consulting\, Inc at 3 Winners Circle\, Albany\, NY\, 12205. AEE CR would also like to thank both CHA and NYSSPE for sponsoring the PDH credits for this event.
URL:https://aeecapitalregion.com/event/wastewater-energy-transfer-sharc/
LOCATION:CHA Consulting\, Inc\, 3 winners circle\, Albany\, New York\, 12205\, United States
CATEGORIES:Monthly Meeting
ATTACH;FMTTYPE=image/jpeg:https://aeecapitalregion.com/wp-content/uploads/2025/11/headshot_new-1-scaled.jpeg
END:VEVENT
END:VCALENDAR