BEGIN:VCALENDAR
VERSION:2.0
PRODID:-//Capital Region Chapter - ECPv6.15.18//NONSGML v1.0//EN
CALSCALE:GREGORIAN
METHOD:PUBLISH
X-WR-CALNAME:Capital Region Chapter
X-ORIGINAL-URL:https://aeecapitalregion.com
X-WR-CALDESC:Events for Capital Region Chapter
REFRESH-INTERVAL;VALUE=DURATION:PT1H
X-Robots-Tag:noindex
X-PUBLISHED-TTL:PT1H
BEGIN:VTIMEZONE
TZID:America/New_York
BEGIN:DAYLIGHT
TZOFFSETFROM:-0500
TZOFFSETTO:-0400
TZNAME:EDT
DTSTART:20250309T070000
END:DAYLIGHT
BEGIN:STANDARD
TZOFFSETFROM:-0400
TZOFFSETTO:-0500
TZNAME:EST
DTSTART:20251102T060000
END:STANDARD
BEGIN:DAYLIGHT
TZOFFSETFROM:-0500
TZOFFSETTO:-0400
TZNAME:EDT
DTSTART:20260308T070000
END:DAYLIGHT
BEGIN:STANDARD
TZOFFSETFROM:-0400
TZOFFSETTO:-0500
TZNAME:EST
DTSTART:20261101T060000
END:STANDARD
BEGIN:DAYLIGHT
TZOFFSETFROM:-0500
TZOFFSETTO:-0400
TZNAME:EDT
DTSTART:20270314T070000
END:DAYLIGHT
BEGIN:STANDARD
TZOFFSETFROM:-0400
TZOFFSETTO:-0500
TZNAME:EST
DTSTART:20271107T060000
END:STANDARD
END:VTIMEZONE
BEGIN:VEVENT
DTSTART;TZID=America/New_York:20260116T113000
DTEND;TZID=America/New_York:20260116T130000
DTSTAMP:20260421T040810
CREATED:20251202T132824Z
LAST-MODIFIED:20260116T215454Z
UID:2283-1768563000-1768568400@aeecapitalregion.com
SUMMARY:Introducing ZEOS-AI (The Operating System for Building Compliance and Energy Optimization) - ReWire
DESCRIPTION:Lee Evans will be presenting on the use of AI-powered software and hands-on energy advisory services to simplify the entire clean-energy journey—from understanding your carbon footprint to implementing solar\, batteries\, EV\, and efficiency projects. Come and learn about the emerging role of AI-enabled RTEM & DER Orchestration and how they are essential to scaling savings\, compliance\, and decarbonization. The presentation will also take a look into real world case studies to demonstrate how the platform translates data into action. \n\n\n\n \n\n\n\n\n\n\n\n\nOur presenter\, Lee Evans\, is the Head of Business Development for ReWire Group. Lee is a clean energy business development executive with more than a decade of experience advancing energy efficiency\, EV charging infrastructure\, community solar\, rooftop solar\, and energy management technology across the Northeast. Co-founder of ReWire and architect of its customer acquisition and strategic partnership model. Known for making complex energy topics accessible and building high-trust relationships with multifamily\, commercial\, mixed-use\, and faith-based organizations. Has occasionally spoken at clean-energy events and served on industry panels. Earlier career includes senior leadership roles at GlaxoSmithKline where he developed expertise in strategy\, execution\, and team development. \n\n\n\n\n \n\n\n\n\n\nThis Lunch & Learn style event will be hosted by our partners CHA Consulting\, Inc at 3 Winners Circle\, Albany\, NY\, 12205. AEE CR would also like to thank both CHA and NYSSPE for sponsoring the PDH credits for this event.
URL:https://aeecapitalregion.com/event/introducing-zeos-ai-the-operating-system-for-building-compliance-and-energy-optimization-rewire/
LOCATION:CHA Consulting\, Inc\, 3 winners circle\, Albany\, New York\, 12205\, United States
CATEGORIES:Monthly Meeting
ATTACH;FMTTYPE=image/png:https://aeecapitalregion.com/wp-content/uploads/2025/12/Screenshot-2025-12-04-141124.png
END:VEVENT
END:VCALENDAR